BEGIN:VCALENDAR
VERSION:2.0
PRODID:-//SwingAround//EN
BEGIN:VEVENT
DTSTART;VALUE=DATE:20260402
DTEND;VALUE=DATE:20260407
SUMMARY:Paris Jazz Roots 2026
DESCRIPTION:4 days of Jazz Dance workshops - 14 hours of top instructors across different levels, masterclasses, 5 amazing parties, competitions and performances. The event emphasizes solo dancing within a jaz...
LOCATION:Paris, France
URL:https://swingaround.app/events/paris-jazz-roots-2026
UID:event-131@swingaround.com
END:VEVENT
END:VCALENDAR
