BEGIN:VCALENDAR
VERSION:2.0
PRODID:-//SwingAround//EN
BEGIN:VEVENT
DTSTART;VALUE=DATE:20260508
DTEND;VALUE=DATE:20260511
SUMMARY:Paris Midnight Blues 2026
DESCRIPTION:An international festival where dancers from many countries (and many ways of dancing) meet, share, and inspire each other. 7 amazing international teachers, 6 levels of couple Blues, from Discover...
LOCATION:Paris, France
URL:https://swingaround.app/events/paris-midnight-blues-2026
UID:event-173@swingaround.com
END:VEVENT
END:VCALENDAR
