BEGIN:VCALENDAR
VERSION:2.0
PRODID:-//SwingAround//EN
BEGIN:VEVENT
DTSTART;VALUE=DATE:20260507
DTEND;VALUE=DATE:20260511
SUMMARY:Paris Spring Balboa 2026
DESCRIPTION:3-days workshop with a schedule designed to let you enjoy both Paris and the festival, along with 4 competition-free parties, pure social dancing to let you experience. Nestled in the famous Pere L...
LOCATION:Paris, France
URL:https://swingaround.app/events/paris-spring-balboa-2026
UID:event-171@swingaround.com
END:VEVENT
END:VCALENDAR
