BEGIN:VCALENDAR
VERSION:2.0
PRODID:-//SwingAround//EN
BEGIN:VEVENT
DTSTART;VALUE=DATE:20260409
DTEND;VALUE=DATE:20260413
SUMMARY:Portland Lindy Exchange (PDXLX)
DESCRIPTION:The Portland Lindy Exchange is Portland, Oregon's annual dance exchange celebrating the vintage swing music and dances of the 20's-50's, including Charleston, Lindy Hop, Balboa, and Collegiate Shag...
LOCATION:Portland, OR, United States
URL:https://swingaround.app/events/portland-lindy-exchange-pdxlx-2026
UID:event-134@swingaround.com
END:VEVENT
END:VCALENDAR
