BEGIN:VCALENDAR
VERSION:2.0
PRODID:-//SwingAround//EN
BEGIN:VEVENT
DTSTART;VALUE=DATE:20260515
DTEND;VALUE=DATE:20260518
SUMMARY:Portocolom Swing Festival 2026
DESCRIPTION:A Mediterranean seaside swing gathering featuring dancing under the sun, outdoor venues, and a wonderful atmosphere you simply can't miss.
LOCATION:Portocolom, Spain
URL:https://swingaround.app/events/portocolom-swing-festival-2026
UID:event-180@swingaround.com
END:VEVENT
END:VCALENDAR
