BEGIN:VCALENDAR
VERSION:2.0
PRODID:-//SwingAround//EN
BEGIN:VEVENT
DTSTART;VALUE=DATE:20261023
DTEND;VALUE=DATE:20261026
SUMMARY:Queer Lindy Festival Cologne 2026
DESCRIPTION:A Lindy Hop festival organised by queer dancers for queer dancers. Interested in making the Cologne Swing scene more queer friendly and creating a safe space for LGBTQ+ people to dance. The queer c...
LOCATION:Cologne, Germany
URL:https://swingaround.app/events/queer-lindy-festival-cologne-2026
UID:event-256@swingaround.com
END:VEVENT
END:VCALENDAR
