BEGIN:VCALENDAR
VERSION:2.0
PRODID:-//SwingAround//EN
BEGIN:VEVENT
DTSTART;VALUE=DATE:20260619
DTEND;VALUE=DATE:20260622
SUMMARY:Queer Swing Dance Exchange Zurich
DESCRIPTION:Enjoy dancing to swing music and be part of the Zurich Pride Weekend with us at our new exchange for queer and queer-friendly people. Come explore Zurich, connect with cool people, and celebrate di...
LOCATION:Zurich, Switzerland
URL:https://swingaround.app/events/queer-swing-dance-exchange-zurich-2026
UID:event-206@swingaround.com
END:VEVENT
END:VCALENDAR
