BEGIN:VCALENDAR
VERSION:2.0
PRODID:-//SwingAround//EN
BEGIN:VEVENT
DTSTART;VALUE=DATE:20260312
DTEND;VALUE=DATE:20260316
SUMMARY:Retro Weekend Festival
DESCRIPTION:In March, Warsaw will once again transform into the swing capital as we celebrate our 12th edition! Join us for a fantastic celebration of Lindy Hop in the heart of Poland. Get ready for inspiring ...
LOCATION:Warsaw, Poland
URL:https://swingaround.app/events/retro-weekend-festival-2026
UID:event-96@swingaround.com
END:VEVENT
END:VCALENDAR
