BEGIN:VCALENDAR
VERSION:2.0
PRODID:-//SwingAround//EN
BEGIN:VEVENT
DTSTART;VALUE=DATE:20260327
DTEND;VALUE=DATE:20260330
SUMMARY:River City Mess Around
DESCRIPTION:Join us in St. Louis, MO March 27-29, 2026 for an unforgettable weekend of dancing. We're so excited to host an exchange that showcases the best that St. Louis has to offer- beautiful venues, talen...
LOCATION:St. Louis, Missouri, United States
URL:https://swingaround.app/events/river-city-mess-around-2026
UID:event-126@swingaround.com
END:VEVENT
END:VCALENDAR
