BEGIN:VCALENDAR
VERSION:2.0
PRODID:-//SwingAround//EN
BEGIN:VEVENT
DTSTART;VALUE=DATE:20260925
DTEND;VALUE=DATE:20260928
SUMMARY:Rock the Balboa! 2026
DESCRIPTION:Poland's longest-running Balboa festival featuring international instructors, live performances, competitions, and community dancing experiences. 3 levels of classes with 6 hours each, followed by ...
LOCATION:Krakow, Poland
URL:https://swingaround.app/events/rock-the-balboa-2026
UID:event-246@swingaround.com
END:VEVENT
END:VCALENDAR
