BEGIN:VCALENDAR
VERSION:2.0
PRODID:-//SwingAround//EN
BEGIN:VEVENT
DTSTART;VALUE=DATE:20260529
DTEND;VALUE=DATE:20260601
SUMMARY:Roffa Balboa Brew
DESCRIPTION:Working on the next Roffa Balboa Brew
LOCATION:Rotterdam, Netherlands
URL:https://swingaround.app/events/roffa-balboa-brew-2026
UID:event-190@swingaround.com
END:VEVENT
END:VCALENDAR
