BEGIN:VCALENDAR
VERSION:2.0
PRODID:-//SwingAround//EN
BEGIN:VEVENT
DTSTART;VALUE=DATE:20260320
DTEND;VALUE=DATE:20260323
SUMMARY:RoffaShag
DESCRIPTION:Join RoffaShag for Rotterdam's (aka Roffa's) one and only Collegiate Shag Festival! \nGet ready to celebrate the harbour city's growing shag scene with a weekend full of exciting classes, themed wor...
LOCATION:Rotterdam, Netherlands
URL:https://swingaround.app/events/roffashag-2026
UID:event-110@swingaround.com
END:VEVENT
END:VCALENDAR
