BEGIN:VCALENDAR
VERSION:2.0
PRODID:-//SwingAround//EN
BEGIN:VEVENT
DTSTART;VALUE=DATE:20260313
DTEND;VALUE=DATE:20260316
SUMMARY:Roma Balboa Weekend
DESCRIPTION:Get Ready for the 8th Edition of Roma Balboa Weekend - March 13 -14 -15, 2026! \nWe're thrilled to invite you to the 8th edition of our beloved Roma Balboa Festival, returning in 2026 for another un...
LOCATION:Rome, Italy
URL:https://swingaround.app/events/roma-balboa-weekend-2026
UID:event-98@swingaround.com
END:VEVENT
END:VCALENDAR
