BEGIN:VCALENDAR
VERSION:2.0
PRODID:-//SwingAround//EN
BEGIN:VEVENT
DTSTART;VALUE=DATE:20260911
DTEND;VALUE=DATE:20260914
SUMMARY:Season of the Switch
DESCRIPTION:Join 'Season of the Switch' - the first lindy hop switch festival in Munich! We are a group of passionate swing dancers with different backgrounds, active in the non-profit organization  Boogie-BÃ¤...
LOCATION:Germany
URL:https://swingaround.app/events/season-of-the-switch-2026
UID:event-240@swingaround.com
END:VEVENT
END:VCALENDAR
