BEGIN:VCALENDAR
VERSION:2.0
PRODID:-//SwingAround//EN
BEGIN:VEVENT
DTSTART;VALUE=DATE:20260612
DTEND;VALUE=DATE:20260615
SUMMARY:Sendai Balboa Festival with Kate & David
DESCRIPTION:Balboa in Sendai, Japan! Check the FB event page for more info.
LOCATION:Sendai, Japan
URL:https://swingaround.app/events/sendai-balboa-festival-with-kate-david-2026
UID:event-203@swingaround.com
END:VEVENT
END:VCALENDAR
