BEGIN:VCALENDAR
VERSION:2.0
PRODID:-//SwingAround//EN
BEGIN:VEVENT
DTSTART;VALUE=DATE:20260828
DTEND;VALUE=DATE:20260831
SUMMARY:Shag Ahoi! 2026
DESCRIPTION:Hamburg's wonderful cosy but energy bursting Collegiate Shag festival. 6 hours of classes, three international inspiring teacher couples, three levels (Saturday and Sunday classes) and one half pas...
LOCATION:New Swing Studio, Boschstraße 15d, 22761 Hamburg
URL:https://swingaround.app/events/shag-ahoi-2026
UID:event-233@swingaround.com
END:VEVENT
END:VCALENDAR
