BEGIN:VCALENDAR
VERSION:2.0
PRODID:-//SwingAround//EN
BEGIN:VEVENT
DTSTART;VALUE=DATE:20260911
DTEND;VALUE=DATE:20260914
SUMMARY:Shag Delight
DESCRIPTION:A late summer weekend full of Shag dancing. International teachers, great bands, Rhine swimming and much more.
LOCATION:Basel, Switzerland
URL:https://swingaround.app/events/shag-delight-2026
UID:event-241@swingaround.com
END:VEVENT
END:VCALENDAR
