BEGIN:VCALENDAR
VERSION:2.0
PRODID:-//SwingAround//EN
BEGIN:VEVENT
DTSTART;VALUE=DATE:20260424
DTEND;VALUE=DATE:20260427
SUMMARY:Shag in the Air
DESCRIPTION:Develop the Collegiate Shag scene in Sweden. Spread joy and inspiration. 2 days with lessons and 2 night with parties to live band.
LOCATION:LinkÃ¶ping, Sweden
URL:https://swingaround.app/events/shag-in-the-air-2026
UID:event-159@swingaround.com
END:VEVENT
END:VCALENDAR
