BEGIN:VCALENDAR
VERSION:2.0
PRODID:-//SwingAround//EN
BEGIN:VEVENT
DTSTART;VALUE=DATE:20260619
DTEND;VALUE=DATE:20260622
SUMMARY:Shake the Change Festival 2026
DESCRIPTION:A vibrant three-day celebration dedicated to jazz dance and the music that fuels it, returning for its fifth edition. This year's edition puts the essence of jazz dance in the spotlight: the rhythm...
LOCATION:Linhart Square, Radovljica, Slovenia
URL:https://swingaround.app/events/shake-the-change-festival-2026
UID:event-207@swingaround.com
END:VEVENT
END:VCALENDAR
