BEGIN:VCALENDAR
VERSION:2.0
PRODID:-//SwingAround//EN
BEGIN:VEVENT
DTSTART;VALUE=DATE:20260410
DTEND;VALUE=DATE:20260413
SUMMARY:Sicilian SwingAge Festival 2026
DESCRIPTION:A three-day celebration featuring music, swing history talks, social dancing, and international workshops. The festival honours Norma Miller, the legendary Lindy Hop icon from the Harlem swing era ...
LOCATION:Alle Terrazze, Viale Regina Elena, 90151 Mondello, Palermo, Italy
URL:https://swingaround.app/events/sicilian-swingage-festival-2026
UID:event-138@swingaround.com
END:VEVENT
END:VCALENDAR
