BEGIN:VCALENDAR
VERSION:2.0
PRODID:-//SwingAround//EN
BEGIN:VEVENT
DTSTART;VALUE=DATE:20260909
DTEND;VALUE=DATE:20260914
SUMMARY:Sicily Swing Fest 2026 - Tutti Frutti Edition
DESCRIPTION:The 11th edition of Sicily Swing Fest combines dance, music, sea, and Mediterranean culture across four days. Offering thematic classes with international instruction at various skill levels, eveni...
LOCATION:Catania, Italy
URL:https://swingaround.app/events/sicily-swing-fest-2026
UID:event-239@swingaround.com
END:VEVENT
END:VCALENDAR
