BEGIN:VCALENDAR
VERSION:2.0
PRODID:-//SwingAround//EN
BEGIN:VEVENT
DTSTART;VALUE=DATE:20260423
DTEND;VALUE=DATE:20260427
SUMMARY:Sitges Balboa Beach 2026
DESCRIPTION:A warm, Mediterranean atmosphere full of energy, where the most important thing is sharing the dance and the friendship. A festival dedicated exclusively to Balboa where dancers from all over the w...
LOCATION:Sitges, Spain
URL:https://swingaround.app/events/sitges-balboa-beach-2026
UID:event-153@swingaround.com
END:VEVENT
END:VCALENDAR
