BEGIN:VCALENDAR
VERSION:2.0
PRODID:-//SwingAround//EN
BEGIN:VEVENT
DTSTART;VALUE=DATE:20260710
DTEND;VALUE=DATE:20260713
SUMMARY:Slow Dance Soiree 2026
DESCRIPTION:Slow Dance Soiree brings back this unique event to dancers in both the Lindy Hop, Slow Balboa, and the Blues communities, reconnecting with their love of slow jazz music. Featuring three class trac...
LOCATION:M&T Bank Ballroom
URL:https://swingaround.app/events/slow-dance-soira-e-2026
UID:event-218@swingaround.com
END:VEVENT
END:VCALENDAR
