BEGIN:VCALENDAR
VERSION:2.0
PRODID:-//SwingAround//EN
BEGIN:VEVENT
DTSTART;VALUE=DATE:20260605
DTEND;VALUE=DATE:20260608
SUMMARY:Slow Flow 2026
DESCRIPTION:A special and intimate weekend of Slow Balboa and Blues. Two dances with a lot in common: slow balboa and slow blues. Uniting communities, supporting each other, and exploring both what they share ...
LOCATION:Big Mama Ballroom, Calle Sebastian Elcano, 12, Madrid, Spain
URL:https://swingaround.app/events/slow-flow-2026
UID:event-194@swingaround.com
END:VEVENT
END:VCALENDAR
