BEGIN:VCALENDAR
VERSION:2.0
PRODID:-//SwingAround//EN
BEGIN:VEVENT
DTSTART;VALUE=DATE:20260710
DTEND;VALUE=DATE:20260713
SUMMARY:Slow Soirée - Brisbane Slow Dance Exchange 2026
DESCRIPTION:A weekend-long slow dancing exchange featuring three nights of social dancing with live bands and fantastic DJs, and two afternoons of classes across all styles delivered by some of Australia's bes...
LOCATION:Brisbane, Australia
URL:https://swingaround.app/events/slow-soira-e-brisbane-slow-dance-exchange-2026
UID:event-217@swingaround.com
END:VEVENT
END:VCALENDAR
