BEGIN:VCALENDAR
VERSION:2.0
PRODID:-//SwingAround//EN
BEGIN:VEVENT
DTSTART;VALUE=DATE:20260605
DTEND;VALUE=DATE:20260608
SUMMARY:Spirit of Swing Festival Aix en Provence 2026
DESCRIPTION:4th edition. Concerts, dances, live jazz music and history set in Aix en Provence's historic squares featuring 17th-century architecture. The festival includes two concerts, swing balls with live m...
LOCATION:La Manufacture, 8-10 rue des Allumettes, 13100 Aix-en-Provence, France
URL:https://swingaround.app/events/spirit-of-swing-festival-aix-en-provence-2026
UID:event-197@swingaround.com
END:VEVENT
END:VCALENDAR
