BEGIN:VCALENDAR
VERSION:2.0
PRODID:-//SwingAround//EN
BEGIN:VEVENT
DTSTART;VALUE=DATE:20260501
DTEND;VALUE=DATE:20260504
SUMMARY:Spread the Shag 2026
DESCRIPTION:A cozy Shag workshop which is open to all levels.
LOCATION:Konstanz, Germany
URL:https://swingaround.app/events/spread-the-shag-2026
UID:event-166@swingaround.com
END:VEVENT
END:VCALENDAR
