BEGIN:VCALENDAR
VERSION:2.0
PRODID:-//SwingAround//EN
BEGIN:VEVENT
DTSTART;VALUE=DATE:20260529
DTEND;VALUE=DATE:20260601
SUMMARY:Spring Jam 2026
DESCRIPTION:A weekend for Lindy Hoppers focusing on the perspective of the Follower (on Saturday) and the Leader (on Sunday) with Solo Jazz classes each day as well. You will take all of the classes, giving yo...
LOCATION:Lundstrom Center For the Performing Arts, Minneapolis, MN, United States
URL:https://swingaround.app/events/spring-jam-2026
UID:event-188@swingaround.com
END:VEVENT
END:VCALENDAR
