BEGIN:VCALENDAR
VERSION:2.0
PRODID:-//SwingAround//EN
BEGIN:VEVENT
DTSTART;VALUE=DATE:20260409
DTEND;VALUE=DATE:20260413
SUMMARY:Spring Lindy Weekend
DESCRIPTION:Top teachers worldwide. Incredible bands. All classes, parties, and activities held at the best venue: Palacio de Congresos Baluarte. Come and experience the incredible energy of one of the leading...
LOCATION:Pamplona, Spain
URL:https://swingaround.app/events/spring-lindy-weekend-2026
UID:event-133@swingaround.com
END:VEVENT
END:VCALENDAR
