BEGIN:VCALENDAR
VERSION:2.0
PRODID:-//SwingAround//EN
BEGIN:VEVENT
DTSTART;VALUE=DATE:20261127
DTEND;VALUE=DATE:20261130
SUMMARY:Stir it! 2026
DESCRIPTION:A weekend full of workshops, parties, live music, tasters and enjoying the swing lifestyle! Stir it! offers Lindy Hop, Solo Jazz, Shag and more. All lessons are free choice - no level registration ...
LOCATION:Zurich, Switzerland
URL:https://swingaround.app/events/stir-it-2026
UID:event-262@swingaround.com
END:VEVENT
END:VCALENDAR
