BEGIN:VCALENDAR
VERSION:2.0
PRODID:-//SwingAround//EN
BEGIN:VEVENT
DTSTART;VALUE=DATE:20260619
DTEND;VALUE=DATE:20260622
SUMMARY:Sugarville 2026
DESCRIPTION:A weekend of dancing, connecting, and learning history. The fourth edition of Sugarville brings swing dancers together in Groningen for workshops, social dancing, and live music.
LOCATION:Groningen, Netherlands
URL:https://swingaround.app/events/sugarville-2026
UID:event-208@swingaround.com
END:VEVENT
END:VCALENDAR
