BEGIN:VCALENDAR
VERSION:2.0
PRODID:-//SwingAround//EN
BEGIN:VEVENT
DTSTART;VALUE=DATE:20260605
DTEND;VALUE=DATE:20260608
SUMMARY:Summer Tyne Swing 2026
DESCRIPTION:Our Biggest and best weekender for 10 years! The weekend features workshops, three social dances with live music, instruction from six international teachers, and DJ entertainment. Optional introdu...
LOCATION:Northumbria University Students Union, 2 Sandyford Road, NE1 8SB, Newcastle upon Tyne, UK
URL:https://swingaround.app/events/summer-tyne-swing-2026
UID:event-195@swingaround.com
END:VEVENT
END:VCALENDAR
