BEGIN:VCALENDAR
VERSION:2.0
PRODID:-//SwingAround//EN
BEGIN:VEVENT
DTSTART;VALUE=DATE:20260814
DTEND;VALUE=DATE:20260817
SUMMARY:Summertime Blues 2026
DESCRIPTION:A community-focused dance weekend in a riverside park featuring social dancing, shared experiences and playful classes with Afro-American Blues. The event includes workshops, a picnic dance, social...
LOCATION:Kurpark Windeck
URL:https://swingaround.app/events/summertime-blues-2026
UID:event-229@swingaround.com
END:VEVENT
END:VCALENDAR
