BEGIN:VCALENDAR
VERSION:2.0
PRODID:-//SwingAround//EN
BEGIN:VEVENT
DTSTART;VALUE=DATE:20260529
DTEND;VALUE=DATE:20260603
SUMMARY:Sunny Slide Swing Fest 2026
DESCRIPTION:A dance camp by the sea with amazing international teachers. The festival celebrates swing culture with workshops in multiple swing styles, mix &amp; match classes, live performances, parties, vint...
LOCATION:Silvi Marina, Italy
URL:https://swingaround.app/events/sunny-slide-swing-fest-2026
UID:event-191@swingaround.com
END:VEVENT
END:VCALENDAR
