BEGIN:VCALENDAR
VERSION:2.0
PRODID:-//SwingAround//EN
BEGIN:VEVENT
DTSTART;VALUE=DATE:20260327
DTEND;VALUE=DATE:20260330
SUMMARY:Sweet Bal Weekend (Slow Bal & Balboa)
DESCRIPTION:Lovely and magical! Dancing Slow Bal &amp; Balboa to the beautiful voice of Andrea Peschiera &amp; The Stardust Syncopators! 3 Levels of Slow Bal, also Beginner-Class to start this wonderful way to...
LOCATION:Augsburg, Germany
URL:https://swingaround.app/events/sweet-bal-weekend-slow-bal-balboa-2026
UID:event-121@swingaround.com
END:VEVENT
END:VCALENDAR
