BEGIN:VCALENDAR
VERSION:2.0
PRODID:-//SwingAround//EN
BEGIN:VEVENT
DTSTART;VALUE=DATE:20260313
DTEND;VALUE=DATE:20260316
SUMMARY:Swing Art Festival
DESCRIPTION:Let's celebrate swing culture through art! \nRight in the heart of Bordeaux, Swing Art Festival is where dance, music, and creativity come together for one unforgettable weekend! \nWhat to expect : \n...
LOCATION:Bordeaux, France
URL:https://swingaround.app/events/swing-art-festival-2026
UID:event-99@swingaround.com
END:VEVENT
END:VCALENDAR
