BEGIN:VCALENDAR
VERSION:2.0
PRODID:-//SwingAround//EN
BEGIN:VEVENT
DTSTART;VALUE=DATE:20260612
DTEND;VALUE=DATE:20260615
SUMMARY:Swing Eruption - Catania Summer Fest 2026
DESCRIPTION:A full weekend of Lindy Hop, Solo Jazz, Aerials, and live music parties in the city of the volcano and the sea. Fourth edition organized by Danz Officina.
LOCATION:Catania, Italy
URL:https://swingaround.app/events/swing-eruption-catania-summer-fest-2026
UID:event-201@swingaround.com
END:VEVENT
END:VCALENDAR
