BEGIN:VCALENDAR
VERSION:2.0
PRODID:-//SwingAround//EN
BEGIN:VEVENT
DTSTART;VALUE=DATE:20260918
DTEND;VALUE=DATE:20260921
SUMMARY:Swing Man Tau 2026
DESCRIPTION:Swing weekend in Bremen featuring international dance teachers, social dancing, and live music. Organized by Swing Man Tau e.V., Bremen's swing dance community.
LOCATION:Bremen, Germany
URL:https://swingaround.app/events/swing-man-tau-2026
UID:event-243@swingaround.com
END:VEVENT
END:VCALENDAR
