BEGIN:VCALENDAR
VERSION:2.0
PRODID:-//SwingAround//EN
BEGIN:VEVENT
DTSTART;VALUE=DATE:20260320
DTEND;VALUE=DATE:20260323
SUMMARY:Swing Night in Canada
DESCRIPTION:Peter &amp; Lauren return for the second year of Swing Night in Canada! Join us as we dive deep into Community, Social Dancing, and Partnership. Peter &amp; Lauren draw on a combined &gt;40 years o...
LOCATION:Hamilton, Canada
URL:https://swingaround.app/events/swing-night-in-canada-2026
UID:event-117@swingaround.com
END:VEVENT
END:VCALENDAR
