BEGIN:VCALENDAR
VERSION:2.0
PRODID:-//SwingAround//EN
BEGIN:VEVENT
DTSTART;VALUE=DATE:20260522
DTEND;VALUE=DATE:20260526
SUMMARY:Swing ohne Senf 2026
DESCRIPTION:Join our lovely Lindy Hop community in St. Gallen, Switzerland, for a long weekend with 3 evening parties.
LOCATION:Aula Schönenwegen, Schönenwegen 6, St. Gallen, Switzerland
URL:https://swingaround.app/events/swing-ohne-senf-2026
UID:event-185@swingaround.com
END:VEVENT
END:VCALENDAR
