BEGIN:VCALENDAR
VERSION:2.0
PRODID:-//SwingAround//EN
BEGIN:VEVENT
DTSTART;VALUE=DATE:20260320
DTEND;VALUE=DATE:20260323
SUMMARY:Swing Sanctuary
DESCRIPTION:Bands, parties and three nights of social dancing! Classes with incredible international teachers for solo jazz and lindy hop. Come dance, learn, and connect in a gorgeous venue with a warm-hearted...
LOCATION:Cambridge, United Kingdom
URL:https://swingaround.app/events/swing-sanctuary-2026
UID:event-109@swingaround.com
END:VEVENT
END:VCALENDAR
