BEGIN:VCALENDAR
VERSION:2.0
PRODID:-//SwingAround//EN
BEGIN:VEVENT
DTSTART;VALUE=DATE:20260417
DTEND;VALUE=DATE:20260420
SUMMARY:Swing Train Festival 2026
DESCRIPTION:Three days of Lindy Hop workshops with top international teachers and parties with the hottest swing bands on stage! 6 hours of Lindy Hop classes, taster classes, parties with live music, competiti...
LOCATION:Turin, Italy
URL:https://swingaround.app/events/swing-train-festival-vii-edition-2026
UID:event-148@swingaround.com
END:VEVENT
END:VCALENDAR
