BEGIN:VCALENDAR
VERSION:2.0
PRODID:-//SwingAround//EN
BEGIN:VEVENT
DTSTART;VALUE=DATE:20260424
DTEND;VALUE=DATE:20260427
SUMMARY:Swingcake Balboa Workshop 2026
DESCRIPTION:An intensive Balboa workshop weekend with social dancing on Friday and Saturday, plus a Sunday tea party. Features classes in Balboa and Slow Balboa with international teachers, and special taster ...
LOCATION:Tübingen, Germany
URL:https://swingaround.app/events/swingcake-balboa-workshop-2026
UID:event-155@swingaround.com
END:VEVENT
END:VCALENDAR
