BEGIN:VCALENDAR
VERSION:2.0
PRODID:-//SwingAround//EN
BEGIN:VEVENT
DTSTART;VALUE=DATE:20260417
DTEND;VALUE=DATE:20260420
SUMMARY:Swingin' by the Sound 2026
DESCRIPTION:A weekend of collegiate shag classes, world-class live jazz, and exciting social dancing on the beautiful Olympic Peninsula of the Pacific Northwest.
LOCATION:Port Townsend, United States
URL:https://swingaround.app/events/swingin-by-the-sound-2026
UID:event-150@swingaround.com
END:VEVENT
END:VCALENDAR
