BEGIN:VCALENDAR
VERSION:2.0
PRODID:-//SwingAround//EN
BEGIN:VEVENT
DTSTART;VALUE=DATE:20260319
DTEND;VALUE=DATE:20260324
SUMMARY:Swingin’ Spring
DESCRIPTION:Welcome to Swingin' Spring and 5 days of dancing. One main venue with two stages where live music take turns almost all night. Get ready for amazing parties and classes in Lindy Hop, Solo Jazz as w...
LOCATION:Gothenburg, Sweden
URL:https://swingaround.app/events/swingin-spring-2026
UID:event-103@swingaround.com
END:VEVENT
END:VCALENDAR
