BEGIN:VCALENDAR
VERSION:2.0
PRODID:-//SwingAround//EN
BEGIN:VEVENT
DTSTART;VALUE=DATE:20260424
DTEND;VALUE=DATE:20260427
SUMMARY:Swingin’ Spring Weekend Dresden
DESCRIPTION:We are excited once again to welcome you back to Swingin' Spring Weekend in beautiful Dresden - celebrating its 5th birthday! We are welcoming international dance instructors in Lindy Hop and Balbo...
LOCATION:Dresden, Germany
URL:https://swingaround.app/events/swingin-spring-weekend-dresden-2026
UID:event-156@swingaround.com
END:VEVENT
END:VCALENDAR
