BEGIN:VCALENDAR
VERSION:2.0
PRODID:-//SwingAround//EN
BEGIN:VEVENT
DTSTART;VALUE=DATE:20260608
DTEND;VALUE=DATE:20260615
SUMMARY:Swingin the Bay 2026
DESCRIPTION:7 days and 7 nights full of classes, live parties and that bay! Like no other earthly dance camp!!!
LOCATION:Armenistis Camping and Bungalows, Sithonia, Chalkidiki, Greece
URL:https://swingaround.app/events/swingin-the-bay-2026
UID:event-199@swingaround.com
END:VEVENT
END:VCALENDAR
