BEGIN:VCALENDAR
VERSION:2.0
PRODID:-//SwingAround//EN
BEGIN:VEVENT
DTSTART;VALUE=DATE:20260522
DTEND;VALUE=DATE:20260525
SUMMARY:Tallinn Swing Weekend 2026
DESCRIPTION:The 12th consecutive festival will once again be filled with swing dancing, workshops and music.
LOCATION:Tallinn, Estonia
URL:https://swingaround.app/events/tallinn-swing-weekend-2026
UID:event-184@swingaround.com
END:VEVENT
END:VCALENDAR
