BEGIN:VCALENDAR
VERSION:2.0
PRODID:-//SwingAround//EN
BEGIN:VEVENT
DTSTART;VALUE=DATE:20260417
DTEND;VALUE=DATE:20260420
SUMMARY:The Blues Harbour 2026
DESCRIPTION:Celebrate spring on Sweden's west coast with workshops exploring different Blues styles and explore musicality, connection and personal expression. Six hours of instruction, live band performances ...
LOCATION:Gothenburg, Sweden
URL:https://swingaround.app/events/the-blues-harbour-2026
UID:event-145@swingaround.com
END:VEVENT
END:VCALENDAR
