BEGIN:VCALENDAR
VERSION:2.0
PRODID:-//SwingAround//EN
BEGIN:VEVENT
DTSTART;VALUE=DATE:20260619
DTEND;VALUE=DATE:20260627
SUMMARY:The Blues Lab
DESCRIPTION:Blues Lab is more than just a dance camp-  it's a space to advance your skills with intention. Guided by teachers who live and breathe the art, you'll explore what it truly means to dance blues. He...
LOCATION:Cappadoccia, Turkey
URL:https://swingaround.app/events/the-blues-lab-2026
UID:event-210@swingaround.com
END:VEVENT
END:VCALENDAR
